BEGIN:VCALENDAR
VERSION:2.0
PRODID:-//Fondazione Guido d&#039;Arezzo - ECPv6.15.18//NONSGML v1.0//EN
CALSCALE:GREGORIAN
METHOD:PUBLISH
X-ORIGINAL-URL:https://www.fondazioneguidodarezzo.com
X-WR-CALDESC:Eventi per Fondazione Guido d&#039;Arezzo
REFRESH-INTERVAL;VALUE=DURATION:PT1H
X-Robots-Tag:noindex
X-PUBLISHED-TTL:PT1H
BEGIN:VTIMEZONE
TZID:Europe/Rome
BEGIN:DAYLIGHT
TZOFFSETFROM:+0100
TZOFFSETTO:+0200
TZNAME:CEST
DTSTART:20240331T010000
END:DAYLIGHT
BEGIN:STANDARD
TZOFFSETFROM:+0200
TZOFFSETTO:+0100
TZNAME:CET
DTSTART:20241027T010000
END:STANDARD
BEGIN:DAYLIGHT
TZOFFSETFROM:+0100
TZOFFSETTO:+0200
TZNAME:CEST
DTSTART:20250330T010000
END:DAYLIGHT
BEGIN:STANDARD
TZOFFSETFROM:+0200
TZOFFSETTO:+0100
TZNAME:CET
DTSTART:20251026T010000
END:STANDARD
BEGIN:DAYLIGHT
TZOFFSETFROM:+0100
TZOFFSETTO:+0200
TZNAME:CEST
DTSTART:20260329T010000
END:DAYLIGHT
BEGIN:STANDARD
TZOFFSETFROM:+0200
TZOFFSETTO:+0100
TZNAME:CET
DTSTART:20261025T010000
END:STANDARD
BEGIN:DAYLIGHT
TZOFFSETFROM:+0100
TZOFFSETTO:+0200
TZNAME:CEST
DTSTART:20270328T010000
END:DAYLIGHT
BEGIN:STANDARD
TZOFFSETFROM:+0200
TZOFFSETTO:+0100
TZNAME:CET
DTSTART:20271031T010000
END:STANDARD
END:VTIMEZONE
BEGIN:VEVENT
DTSTART;TZID=Europe/Rome:20260304T190000
DTEND;TZID=Europe/Rome:20260304T200000
DTSTAMP:20260422T013550
CREATED:20251126T091120Z
LAST-MODIFIED:20251126T091120Z
UID:25466-1772650800-1772654400@www.fondazioneguidodarezzo.com
SUMMARY:Spettattori
DESCRIPTION:I laboratori\, tenuti dai docenti Amina Kovacevich e Samuele Boncompagni\, nascono per offrire un innovativo approccio al mondo del teatro e sono rivolti ad abbonati e spettatori del Teatro Petrarca\, per favorire un’ulteriore opportunità di scoperta\, approfondimento\, interpretazione e sperimentazione delle opere che verranno messe in scena. Ogni incontro\, infatti\, anticiperà la visione del vero e proprio spettacolo tramite la spiegazione delle dinamiche del palcoscenico\, attraverso la conoscenza dell’autore\, del testo e dei personaggi\, la prova di alcune scene o l’approfondimento delle diverse componenti espressive\, mimiche\, posturali o interpretative \nIl primo appuntamento del 20 novembre 2025 sarà dedicato a “Sogno di una notte di mezza estate” di William Shakespeare\, poi i laboratori proseguiranno giovedì 4 dicembre 2025 con “orno a casa” di Harold Pinter e martedì 6 gennaio 2026 con “Amleto2” di Filippo Timi\, prima del finale di mercoledì 4 marzo 2026 con “ART” di Yasmina Reza. Ogni appuntamento è in programma tra le 19.00 e le 20.00 nei locali della Fondazione Guido d’Arezzo in Corso Italia 102 con un lavoro specifico sui quattro spettacoli in programma\, poi il gruppo di allievi si trasferirà direttamente al Teatro Petrarca per assistere alla vera e propria messa in scena. In poche ore\, dunque\, il gruppo di “Spettattori” potrà vivere una doppia dimensione teatrale dal palcoscenico alla poltrona e viceversa\, con una modalità di fruizione creativa\, attiva e esperienziale. \nPer informazioni e prenotazioni è possibile contattare il numero 3335663928 – 3389001799.
URL:https://www.fondazioneguidodarezzo.com/evento/spettattori-3/2026-03-04/
LOCATION:Fondazione Guido d’Arezzo\, Corso Italia\, Arezzo\, AR\, Italia\, Arezzo\, AR\, 52100\, Italia
CATEGORIES:Teatro,Stagione teatrale
ATTACH;FMTTYPE=image/jpeg:https://www.fondazioneguidodarezzo.com/wp-content/uploads/2025/11/Locandina.psd.jpg
ORGANIZER;CN="Fondazione Guido d'Arezzo sezione teatri":MAILTO:teatri@fondazioneguidodarezzo.com
GEO:43.464063317371;11.88161851336
X-APPLE-STRUCTURED-LOCATION;VALUE=URI;X-ADDRESS=Fondazione Guido d’Arezzo Corso Italia Arezzo AR Italia Arezzo AR 52100 Italia;X-APPLE-RADIUS=500;X-TITLE=Corso Italia\, Arezzo\, AR\, Italia:geo:11.88161851336,43.464063317371
END:VEVENT
BEGIN:VEVENT
DTSTART;TZID=Europe/Rome:20260106T190000
DTEND;TZID=Europe/Rome:20260106T200000
DTSTAMP:20260422T013550
CREATED:20251126T091120Z
LAST-MODIFIED:20251126T091120Z
UID:25465-1767726000-1767729600@www.fondazioneguidodarezzo.com
SUMMARY:Spettattori
DESCRIPTION:I laboratori\, tenuti dai docenti Amina Kovacevich e Samuele Boncompagni\, nascono per offrire un innovativo approccio al mondo del teatro e sono rivolti ad abbonati e spettatori del Teatro Petrarca\, per favorire un’ulteriore opportunità di scoperta\, approfondimento\, interpretazione e sperimentazione delle opere che verranno messe in scena. Ogni incontro\, infatti\, anticiperà la visione del vero e proprio spettacolo tramite la spiegazione delle dinamiche del palcoscenico\, attraverso la conoscenza dell’autore\, del testo e dei personaggi\, la prova di alcune scene o l’approfondimento delle diverse componenti espressive\, mimiche\, posturali o interpretative \nIl primo appuntamento del 20 novembre 2025 sarà dedicato a “Sogno di una notte di mezza estate” di William Shakespeare\, poi i laboratori proseguiranno giovedì 4 dicembre 2025 con “orno a casa” di Harold Pinter e martedì 6 gennaio 2026 con “Amleto2” di Filippo Timi\, prima del finale di mercoledì 4 marzo 2026 con “ART” di Yasmina Reza. Ogni appuntamento è in programma tra le 19.00 e le 20.00 nei locali della Fondazione Guido d’Arezzo in Corso Italia 102 con un lavoro specifico sui quattro spettacoli in programma\, poi il gruppo di allievi si trasferirà direttamente al Teatro Petrarca per assistere alla vera e propria messa in scena. In poche ore\, dunque\, il gruppo di “Spettattori” potrà vivere una doppia dimensione teatrale dal palcoscenico alla poltrona e viceversa\, con una modalità di fruizione creativa\, attiva e esperienziale. \nPer informazioni e prenotazioni è possibile contattare il numero 3335663928 – 3389001799.
URL:https://www.fondazioneguidodarezzo.com/evento/spettattori-3/2026-01-06/
LOCATION:Fondazione Guido d’Arezzo\, Corso Italia\, Arezzo\, AR\, Italia\, Arezzo\, AR\, 52100\, Italia
CATEGORIES:Teatro,Stagione teatrale
ATTACH;FMTTYPE=image/jpeg:https://www.fondazioneguidodarezzo.com/wp-content/uploads/2025/11/Locandina.psd.jpg
ORGANIZER;CN="Fondazione Guido d'Arezzo sezione teatri":MAILTO:teatri@fondazioneguidodarezzo.com
GEO:43.464063317371;11.88161851336
X-APPLE-STRUCTURED-LOCATION;VALUE=URI;X-ADDRESS=Fondazione Guido d’Arezzo Corso Italia Arezzo AR Italia Arezzo AR 52100 Italia;X-APPLE-RADIUS=500;X-TITLE=Corso Italia\, Arezzo\, AR\, Italia:geo:11.88161851336,43.464063317371
END:VEVENT
BEGIN:VEVENT
DTSTART;TZID=Europe/Rome:20251204T190000
DTEND;TZID=Europe/Rome:20251204T200000
DTSTAMP:20260422T013550
CREATED:20251126T091120Z
LAST-MODIFIED:20251126T091120Z
UID:25464-1764874800-1764878400@www.fondazioneguidodarezzo.com
SUMMARY:Spettattori
DESCRIPTION:I laboratori\, tenuti dai docenti Amina Kovacevich e Samuele Boncompagni\, nascono per offrire un innovativo approccio al mondo del teatro e sono rivolti ad abbonati e spettatori del Teatro Petrarca\, per favorire un’ulteriore opportunità di scoperta\, approfondimento\, interpretazione e sperimentazione delle opere che verranno messe in scena. Ogni incontro\, infatti\, anticiperà la visione del vero e proprio spettacolo tramite la spiegazione delle dinamiche del palcoscenico\, attraverso la conoscenza dell’autore\, del testo e dei personaggi\, la prova di alcune scene o l’approfondimento delle diverse componenti espressive\, mimiche\, posturali o interpretative \nIl primo appuntamento del 20 novembre 2025 sarà dedicato a “Sogno di una notte di mezza estate” di William Shakespeare\, poi i laboratori proseguiranno giovedì 4 dicembre 2025 con “orno a casa” di Harold Pinter e martedì 6 gennaio 2026 con “Amleto2” di Filippo Timi\, prima del finale di mercoledì 4 marzo 2026 con “ART” di Yasmina Reza. Ogni appuntamento è in programma tra le 19.00 e le 20.00 nei locali della Fondazione Guido d’Arezzo in Corso Italia 102 con un lavoro specifico sui quattro spettacoli in programma\, poi il gruppo di allievi si trasferirà direttamente al Teatro Petrarca per assistere alla vera e propria messa in scena. In poche ore\, dunque\, il gruppo di “Spettattori” potrà vivere una doppia dimensione teatrale dal palcoscenico alla poltrona e viceversa\, con una modalità di fruizione creativa\, attiva e esperienziale. \nPer informazioni e prenotazioni è possibile contattare il numero 3335663928 – 3389001799.
URL:https://www.fondazioneguidodarezzo.com/evento/spettattori-3/2025-12-04/
LOCATION:Fondazione Guido d’Arezzo\, Corso Italia\, Arezzo\, AR\, Italia\, Arezzo\, AR\, 52100\, Italia
CATEGORIES:Teatro,Stagione teatrale
ATTACH;FMTTYPE=image/jpeg:https://www.fondazioneguidodarezzo.com/wp-content/uploads/2025/11/Locandina.psd.jpg
ORGANIZER;CN="Fondazione Guido d'Arezzo sezione teatri":MAILTO:teatri@fondazioneguidodarezzo.com
GEO:43.464063317371;11.88161851336
X-APPLE-STRUCTURED-LOCATION;VALUE=URI;X-ADDRESS=Fondazione Guido d’Arezzo Corso Italia Arezzo AR Italia Arezzo AR 52100 Italia;X-APPLE-RADIUS=500;X-TITLE=Corso Italia\, Arezzo\, AR\, Italia:geo:11.88161851336,43.464063317371
END:VEVENT
BEGIN:VEVENT
DTSTART;TZID=Europe/Rome:20251120T190000
DTEND;TZID=Europe/Rome:20251120T200000
DTSTAMP:20260422T013550
CREATED:20251126T091120Z
LAST-MODIFIED:20251126T091120Z
UID:25461-1763665200-1763668800@www.fondazioneguidodarezzo.com
SUMMARY:Spettattori
DESCRIPTION:I laboratori\, tenuti dai docenti Amina Kovacevich e Samuele Boncompagni\, nascono per offrire un innovativo approccio al mondo del teatro e sono rivolti ad abbonati e spettatori del Teatro Petrarca\, per favorire un’ulteriore opportunità di scoperta\, approfondimento\, interpretazione e sperimentazione delle opere che verranno messe in scena. Ogni incontro\, infatti\, anticiperà la visione del vero e proprio spettacolo tramite la spiegazione delle dinamiche del palcoscenico\, attraverso la conoscenza dell’autore\, del testo e dei personaggi\, la prova di alcune scene o l’approfondimento delle diverse componenti espressive\, mimiche\, posturali o interpretative \nIl primo appuntamento del 20 novembre 2025 sarà dedicato a “Sogno di una notte di mezza estate” di William Shakespeare\, poi i laboratori proseguiranno giovedì 4 dicembre 2025 con “orno a casa” di Harold Pinter e martedì 6 gennaio 2026 con “Amleto2” di Filippo Timi\, prima del finale di mercoledì 4 marzo 2026 con “ART” di Yasmina Reza. Ogni appuntamento è in programma tra le 19.00 e le 20.00 nei locali della Fondazione Guido d’Arezzo in Corso Italia 102 con un lavoro specifico sui quattro spettacoli in programma\, poi il gruppo di allievi si trasferirà direttamente al Teatro Petrarca per assistere alla vera e propria messa in scena. In poche ore\, dunque\, il gruppo di “Spettattori” potrà vivere una doppia dimensione teatrale dal palcoscenico alla poltrona e viceversa\, con una modalità di fruizione creativa\, attiva e esperienziale. \nPer informazioni e prenotazioni è possibile contattare il numero 3335663928 – 3389001799.
URL:https://www.fondazioneguidodarezzo.com/evento/spettattori-3/2025-11-20/
LOCATION:Fondazione Guido d’Arezzo\, Corso Italia\, Arezzo\, AR\, Italia\, Arezzo\, AR\, 52100\, Italia
CATEGORIES:Teatro,Stagione teatrale
ATTACH;FMTTYPE=image/jpeg:https://www.fondazioneguidodarezzo.com/wp-content/uploads/2025/11/Locandina.psd.jpg
ORGANIZER;CN="Fondazione Guido d'Arezzo sezione teatri":MAILTO:teatri@fondazioneguidodarezzo.com
GEO:43.464063317371;11.88161851336
X-APPLE-STRUCTURED-LOCATION;VALUE=URI;X-ADDRESS=Fondazione Guido d’Arezzo Corso Italia Arezzo AR Italia Arezzo AR 52100 Italia;X-APPLE-RADIUS=500;X-TITLE=Corso Italia\, Arezzo\, AR\, Italia:geo:11.88161851336,43.464063317371
END:VEVENT
END:VCALENDAR