BEGIN:VCALENDAR
VERSION:2.0
PRODID:-//Fondazione Guido d&#039;Arezzo - ECPv6.15.18//NONSGML v1.0//EN
CALSCALE:GREGORIAN
METHOD:PUBLISH
X-WR-CALNAME:Fondazione Guido d&#039;Arezzo
X-ORIGINAL-URL:https://www.fondazioneguidodarezzo.com
X-WR-CALDESC:Eventi per Fondazione Guido d&#039;Arezzo
REFRESH-INTERVAL;VALUE=DURATION:PT1H
X-Robots-Tag:noindex
X-PUBLISHED-TTL:PT1H
BEGIN:VTIMEZONE
TZID:Europe/Rome
BEGIN:DAYLIGHT
TZOFFSETFROM:+0100
TZOFFSETTO:+0200
TZNAME:CEST
DTSTART:20240331T010000
END:DAYLIGHT
BEGIN:STANDARD
TZOFFSETFROM:+0200
TZOFFSETTO:+0100
TZNAME:CET
DTSTART:20241027T010000
END:STANDARD
BEGIN:DAYLIGHT
TZOFFSETFROM:+0100
TZOFFSETTO:+0200
TZNAME:CEST
DTSTART:20250330T010000
END:DAYLIGHT
BEGIN:STANDARD
TZOFFSETFROM:+0200
TZOFFSETTO:+0100
TZNAME:CET
DTSTART:20251026T010000
END:STANDARD
BEGIN:DAYLIGHT
TZOFFSETFROM:+0100
TZOFFSETTO:+0200
TZNAME:CEST
DTSTART:20260329T010000
END:DAYLIGHT
BEGIN:STANDARD
TZOFFSETFROM:+0200
TZOFFSETTO:+0100
TZNAME:CET
DTSTART:20261025T010000
END:STANDARD
END:VTIMEZONE
BEGIN:VEVENT
DTSTART;TZID=Europe/Rome:20251229T153000
DTEND;TZID=Europe/Rome:20251229T163000
DTSTAMP:20260422T032745
CREATED:20251209T092014Z
LAST-MODIFIED:20251212T094516Z
UID:25687-1767022200-1767025800@www.fondazioneguidodarezzo.com
SUMMARY:Ritorno di OZ
DESCRIPTION:Dopo molti anni Dorothy Gale\, ormai anziana e smemorata signora della Grande Mela\, torna nella sua vecchia casa del Kansas\, accompagnata dal fido badante portoricano Pedro: a sua insaputa deve infatti firmare il contratto di vendita della casa. \nDurante il soggiorno però Dorothy ritrova gli antichi giocattoli di porcellana che le riportano alla mente le passate avventure\, mentre nella stessa notte\, il Taglialegna di latta torna a farle visita con una notizia allarmante: nel meraviglioso mondo di Oz\, alla città di Smeraldo\, sta per scoppiare una guerra che solo lei ha la possibilità di scongiurare: una guerra tra lo Spaventapasseri\, re dei Munkin e Leone\, re degli abitanti della foresta. \nE’ questa per Dorothy l’occasione di un nuovo\, fantastico viaggio nel meraviglioso mondo di Oz\, cercando di mettere la pace nel conflitto tra i due amici\, compagni di quella prima fantastica avventura. \nLa semplice trama\, arricchita da diversi riferimenti al modello originale del romanzo di Baum\, se da una parte si presenta come un occasione per riflettere su tematiche fondamentali come l’altruismo\, la cooperazione e la pace\, dall’altra vuole essere un inno alla fantasia che si nutre di racconti e di ricordi\, e che ci deve accompagnare in tutte le fasi della vita. \nDorothy\, alla sua età\, non perde la voglia di fantasticare\, di raccontare avventure reali o immaginarie che siano\, non è dato saperlo\, ma che comunque rendono la vita sempre più serena e sorridente. \nIn considerazione dell’agilità della trama e della semplicità del linguaggio\, il target di riferimento è quello di bambini dai 4 ai 10 anni.
URL:https://www.fondazioneguidodarezzo.com/evento/ritorno-di-oz/2025-12-29/
LOCATION:Teatro Pietro Aretino\, Via Bicchieraia\, 32\, Arezzo\, AR\, Arezzo\, AR\, 52100
CATEGORIES:Teatro
ATTACH;FMTTYPE=image/jpeg:https://www.fondazioneguidodarezzo.com/wp-content/uploads/2025/12/Ritorno-di-OZ-e1765271821303.jpg
ORGANIZER;CN="Fondazione Guido d'Arezzo sezione teatri":MAILTO:teatri@fondazioneguidodarezzo.com
GEO:43.4652138;11.8820518
X-APPLE-STRUCTURED-LOCATION;VALUE=URI;X-ADDRESS=Teatro Pietro Aretino Via Bicchieraia 32 Arezzo AR Arezzo AR 52100;X-APPLE-RADIUS=500;X-TITLE=Via Bicchieraia\, 32\, Arezzo\, AR:geo:11.8820518,43.4652138
END:VEVENT
BEGIN:VEVENT
DTSTART;TZID=Europe/Rome:20251221T153000
DTEND;TZID=Europe/Rome:20251221T163000
DTSTAMP:20260422T032745
CREATED:20251209T092014Z
LAST-MODIFIED:20251212T094516Z
UID:25686-1766331000-1766334600@www.fondazioneguidodarezzo.com
SUMMARY:Ritorno di OZ
DESCRIPTION:Dopo molti anni Dorothy Gale\, ormai anziana e smemorata signora della Grande Mela\, torna nella sua vecchia casa del Kansas\, accompagnata dal fido badante portoricano Pedro: a sua insaputa deve infatti firmare il contratto di vendita della casa. \nDurante il soggiorno però Dorothy ritrova gli antichi giocattoli di porcellana che le riportano alla mente le passate avventure\, mentre nella stessa notte\, il Taglialegna di latta torna a farle visita con una notizia allarmante: nel meraviglioso mondo di Oz\, alla città di Smeraldo\, sta per scoppiare una guerra che solo lei ha la possibilità di scongiurare: una guerra tra lo Spaventapasseri\, re dei Munkin e Leone\, re degli abitanti della foresta. \nE’ questa per Dorothy l’occasione di un nuovo\, fantastico viaggio nel meraviglioso mondo di Oz\, cercando di mettere la pace nel conflitto tra i due amici\, compagni di quella prima fantastica avventura. \nLa semplice trama\, arricchita da diversi riferimenti al modello originale del romanzo di Baum\, se da una parte si presenta come un occasione per riflettere su tematiche fondamentali come l’altruismo\, la cooperazione e la pace\, dall’altra vuole essere un inno alla fantasia che si nutre di racconti e di ricordi\, e che ci deve accompagnare in tutte le fasi della vita. \nDorothy\, alla sua età\, non perde la voglia di fantasticare\, di raccontare avventure reali o immaginarie che siano\, non è dato saperlo\, ma che comunque rendono la vita sempre più serena e sorridente. \nIn considerazione dell’agilità della trama e della semplicità del linguaggio\, il target di riferimento è quello di bambini dai 4 ai 10 anni.
URL:https://www.fondazioneguidodarezzo.com/evento/ritorno-di-oz/2025-12-21/
LOCATION:Teatro Pietro Aretino\, Via Bicchieraia\, 32\, Arezzo\, AR\, Arezzo\, AR\, 52100
CATEGORIES:Teatro
ATTACH;FMTTYPE=image/jpeg:https://www.fondazioneguidodarezzo.com/wp-content/uploads/2025/12/Ritorno-di-OZ-e1765271821303.jpg
ORGANIZER;CN="Fondazione Guido d'Arezzo sezione teatri":MAILTO:teatri@fondazioneguidodarezzo.com
GEO:43.4652138;11.8820518
X-APPLE-STRUCTURED-LOCATION;VALUE=URI;X-ADDRESS=Teatro Pietro Aretino Via Bicchieraia 32 Arezzo AR Arezzo AR 52100;X-APPLE-RADIUS=500;X-TITLE=Via Bicchieraia\, 32\, Arezzo\, AR:geo:11.8820518,43.4652138
END:VEVENT
BEGIN:VEVENT
DTSTART;TZID=Europe/Rome:20251213T183000
DTEND;TZID=Europe/Rome:20251213T193000
DTSTAMP:20260422T032745
CREATED:20251209T092014Z
LAST-MODIFIED:20251212T094514Z
UID:25663-1765650600-1765654200@www.fondazioneguidodarezzo.com
SUMMARY:Ritorno di OZ
DESCRIPTION:Dopo molti anni Dorothy Gale\, ormai anziana e smemorata signora della Grande Mela\, torna nella sua vecchia casa del Kansas\, accompagnata dal fido badante portoricano Pedro: a sua insaputa deve infatti firmare il contratto di vendita della casa. \nDurante il soggiorno però Dorothy ritrova gli antichi giocattoli di porcellana che le riportano alla mente le passate avventure\, mentre nella stessa notte\, il Taglialegna di latta torna a farle visita con una notizia allarmante: nel meraviglioso mondo di Oz\, alla città di Smeraldo\, sta per scoppiare una guerra che solo lei ha la possibilità di scongiurare: una guerra tra lo Spaventapasseri\, re dei Munkin e Leone\, re degli abitanti della foresta. \nE’ questa per Dorothy l’occasione di un nuovo\, fantastico viaggio nel meraviglioso mondo di Oz\, cercando di mettere la pace nel conflitto tra i due amici\, compagni di quella prima fantastica avventura. \nLa semplice trama\, arricchita da diversi riferimenti al modello originale del romanzo di Baum\, se da una parte si presenta come un occasione per riflettere su tematiche fondamentali come l’altruismo\, la cooperazione e la pace\, dall’altra vuole essere un inno alla fantasia che si nutre di racconti e di ricordi\, e che ci deve accompagnare in tutte le fasi della vita. \nDorothy\, alla sua età\, non perde la voglia di fantasticare\, di raccontare avventure reali o immaginarie che siano\, non è dato saperlo\, ma che comunque rendono la vita sempre più serena e sorridente. \nIn considerazione dell’agilità della trama e della semplicità del linguaggio\, il target di riferimento è quello di bambini dai 4 ai 10 anni.
URL:https://www.fondazioneguidodarezzo.com/evento/ritorno-di-oz/2025-12-13/
LOCATION:Teatro Pietro Aretino\, Via Bicchieraia\, 32\, Arezzo\, AR\, Arezzo\, AR\, 52100
CATEGORIES:Teatro
ATTACH;FMTTYPE=image/jpeg:https://www.fondazioneguidodarezzo.com/wp-content/uploads/2025/12/Ritorno-di-OZ-e1765271821303.jpg
ORGANIZER;CN="Fondazione Guido d'Arezzo sezione teatri":MAILTO:teatri@fondazioneguidodarezzo.com
GEO:43.4652138;11.8820518
X-APPLE-STRUCTURED-LOCATION;VALUE=URI;X-ADDRESS=Teatro Pietro Aretino Via Bicchieraia 32 Arezzo AR Arezzo AR 52100;X-APPLE-RADIUS=500;X-TITLE=Via Bicchieraia\, 32\, Arezzo\, AR:geo:11.8820518,43.4652138
END:VEVENT
BEGIN:VEVENT
DTSTART;TZID=Europe/Rome:20251212T153000
DTEND;TZID=Europe/Rome:20251212T163000
DTSTAMP:20260422T032745
CREATED:20251209T092014Z
LAST-MODIFIED:20251212T094514Z
UID:25661-1765553400-1765557000@www.fondazioneguidodarezzo.com
SUMMARY:Ritorno di OZ
DESCRIPTION:Dopo molti anni Dorothy Gale\, ormai anziana e smemorata signora della Grande Mela\, torna nella sua vecchia casa del Kansas\, accompagnata dal fido badante portoricano Pedro: a sua insaputa deve infatti firmare il contratto di vendita della casa. \nDurante il soggiorno però Dorothy ritrova gli antichi giocattoli di porcellana che le riportano alla mente le passate avventure\, mentre nella stessa notte\, il Taglialegna di latta torna a farle visita con una notizia allarmante: nel meraviglioso mondo di Oz\, alla città di Smeraldo\, sta per scoppiare una guerra che solo lei ha la possibilità di scongiurare: una guerra tra lo Spaventapasseri\, re dei Munkin e Leone\, re degli abitanti della foresta. \nE’ questa per Dorothy l’occasione di un nuovo\, fantastico viaggio nel meraviglioso mondo di Oz\, cercando di mettere la pace nel conflitto tra i due amici\, compagni di quella prima fantastica avventura. \nLa semplice trama\, arricchita da diversi riferimenti al modello originale del romanzo di Baum\, se da una parte si presenta come un occasione per riflettere su tematiche fondamentali come l’altruismo\, la cooperazione e la pace\, dall’altra vuole essere un inno alla fantasia che si nutre di racconti e di ricordi\, e che ci deve accompagnare in tutte le fasi della vita. \nDorothy\, alla sua età\, non perde la voglia di fantasticare\, di raccontare avventure reali o immaginarie che siano\, non è dato saperlo\, ma che comunque rendono la vita sempre più serena e sorridente. \nIn considerazione dell’agilità della trama e della semplicità del linguaggio\, il target di riferimento è quello di bambini dai 4 ai 10 anni.
URL:https://www.fondazioneguidodarezzo.com/evento/ritorno-di-oz/2025-12-12/
LOCATION:Teatro Pietro Aretino\, Via Bicchieraia\, 32\, Arezzo\, AR\, Arezzo\, AR\, 52100
CATEGORIES:Teatro
ATTACH;FMTTYPE=image/jpeg:https://www.fondazioneguidodarezzo.com/wp-content/uploads/2025/12/Ritorno-di-OZ-e1765271821303.jpg
ORGANIZER;CN="Fondazione Guido d'Arezzo sezione teatri":MAILTO:teatri@fondazioneguidodarezzo.com
GEO:43.4652138;11.8820518
X-APPLE-STRUCTURED-LOCATION;VALUE=URI;X-ADDRESS=Teatro Pietro Aretino Via Bicchieraia 32 Arezzo AR Arezzo AR 52100;X-APPLE-RADIUS=500;X-TITLE=Via Bicchieraia\, 32\, Arezzo\, AR:geo:11.8820518,43.4652138
END:VEVENT
END:VCALENDAR