BEGIN:VCALENDAR
VERSION:2.0
PRODID:-//Fondazione Guido d&#039;Arezzo - ECPv6.15.18//NONSGML v1.0//EN
CALSCALE:GREGORIAN
METHOD:PUBLISH
X-ORIGINAL-URL:https://www.fondazioneguidodarezzo.com
X-WR-CALDESC:Eventi per Fondazione Guido d&#039;Arezzo
REFRESH-INTERVAL;VALUE=DURATION:PT1H
X-Robots-Tag:noindex
X-PUBLISHED-TTL:PT1H
BEGIN:VTIMEZONE
TZID:Europe/Rome
BEGIN:DAYLIGHT
TZOFFSETFROM:+0100
TZOFFSETTO:+0200
TZNAME:CEST
DTSTART:20240331T010000
END:DAYLIGHT
BEGIN:STANDARD
TZOFFSETFROM:+0200
TZOFFSETTO:+0100
TZNAME:CET
DTSTART:20241027T010000
END:STANDARD
BEGIN:DAYLIGHT
TZOFFSETFROM:+0100
TZOFFSETTO:+0200
TZNAME:CEST
DTSTART:20250330T010000
END:DAYLIGHT
BEGIN:STANDARD
TZOFFSETFROM:+0200
TZOFFSETTO:+0100
TZNAME:CET
DTSTART:20251026T010000
END:STANDARD
BEGIN:DAYLIGHT
TZOFFSETFROM:+0100
TZOFFSETTO:+0200
TZNAME:CEST
DTSTART:20260329T010000
END:DAYLIGHT
BEGIN:STANDARD
TZOFFSETFROM:+0200
TZOFFSETTO:+0100
TZNAME:CET
DTSTART:20261025T010000
END:STANDARD
END:VTIMEZONE
BEGIN:VEVENT
DTSTART;TZID=Europe/Rome:20251229T183000
DTEND;TZID=Europe/Rome:20251229T193000
DTSTAMP:20260422T032923
CREATED:20251209T093846Z
LAST-MODIFIED:20251212T094523Z
UID:25684-1767033000-1767036600@www.fondazioneguidodarezzo.com
SUMMARY:Il folletto ciabattino
DESCRIPTION:Quante celeberrime favole hanno per protagoniste delle scarpe: scarpe magiche come quelle d’argento di Dorothy nel Mago di Oz\, o gli stivali del gatto di Perrault; scarpe che ballano come quelle piccole e rosse di Andersen\, o come quelle logore dei fratelli Grimm; e non è forse una scarpa che aiuta il principe a ritrovare la sua amata Cenerentola? E che dire delle calosce che esaudiscono desideri ma non danno la felicità a tutti quelli che le provano? \nTutte queste favole ama raccontare il ciabattino alla sua signora\, ma a forza di raccontarle si distrae e mai riesce a terminare per tempo il suo lavoro. \nE adesso: come fare? Come poter riuscire a terminare le scarpe per il giorno dopo? \nMa nella notte\, proprio come in una favola\, sarà l’intervento di un misterioso folletto di nome Leprechaun a togliere le castagne dal fuoco al vecchio ciabattino: e questo per tante notti fino al sopraggiungere della magica notte di Natale. \nEtà consigliata: dai 3 ai 7 anni.
URL:https://www.fondazioneguidodarezzo.com/evento/il-folletto-ciabattino/2025-12-29/
LOCATION:Teatro Pietro Aretino\, Via Bicchieraia\, 32\, Arezzo\, AR\, Arezzo\, AR\, 52100
CATEGORIES:Teatro
ATTACH;FMTTYPE=image/jpeg:https://www.fondazioneguidodarezzo.com/wp-content/uploads/2025/12/Il-folletto-e1765272877307.jpg
ORGANIZER;CN="Fondazione Guido d'Arezzo sezione teatri":MAILTO:teatri@fondazioneguidodarezzo.com
GEO:43.4652138;11.8820518
X-APPLE-STRUCTURED-LOCATION;VALUE=URI;X-ADDRESS=Teatro Pietro Aretino Via Bicchieraia 32 Arezzo AR Arezzo AR 52100;X-APPLE-RADIUS=500;X-TITLE=Via Bicchieraia\, 32\, Arezzo\, AR:geo:11.8820518,43.4652138
END:VEVENT
BEGIN:VEVENT
DTSTART;TZID=Europe/Rome:20251221T183000
DTEND;TZID=Europe/Rome:20251221T193000
DTSTAMP:20260422T032923
CREATED:20251209T093846Z
LAST-MODIFIED:20251212T094522Z
UID:25683-1766341800-1766345400@www.fondazioneguidodarezzo.com
SUMMARY:Il folletto ciabattino
DESCRIPTION:Quante celeberrime favole hanno per protagoniste delle scarpe: scarpe magiche come quelle d’argento di Dorothy nel Mago di Oz\, o gli stivali del gatto di Perrault; scarpe che ballano come quelle piccole e rosse di Andersen\, o come quelle logore dei fratelli Grimm; e non è forse una scarpa che aiuta il principe a ritrovare la sua amata Cenerentola? E che dire delle calosce che esaudiscono desideri ma non danno la felicità a tutti quelli che le provano? \nTutte queste favole ama raccontare il ciabattino alla sua signora\, ma a forza di raccontarle si distrae e mai riesce a terminare per tempo il suo lavoro. \nE adesso: come fare? Come poter riuscire a terminare le scarpe per il giorno dopo? \nMa nella notte\, proprio come in una favola\, sarà l’intervento di un misterioso folletto di nome Leprechaun a togliere le castagne dal fuoco al vecchio ciabattino: e questo per tante notti fino al sopraggiungere della magica notte di Natale. \nEtà consigliata: dai 3 ai 7 anni.
URL:https://www.fondazioneguidodarezzo.com/evento/il-folletto-ciabattino/2025-12-21/
LOCATION:Teatro Pietro Aretino\, Via Bicchieraia\, 32\, Arezzo\, AR\, Arezzo\, AR\, 52100
CATEGORIES:Teatro
ATTACH;FMTTYPE=image/jpeg:https://www.fondazioneguidodarezzo.com/wp-content/uploads/2025/12/Il-folletto-e1765272877307.jpg
ORGANIZER;CN="Fondazione Guido d'Arezzo sezione teatri":MAILTO:teatri@fondazioneguidodarezzo.com
GEO:43.4652138;11.8820518
X-APPLE-STRUCTURED-LOCATION;VALUE=URI;X-ADDRESS=Teatro Pietro Aretino Via Bicchieraia 32 Arezzo AR Arezzo AR 52100;X-APPLE-RADIUS=500;X-TITLE=Via Bicchieraia\, 32\, Arezzo\, AR:geo:11.8820518,43.4652138
END:VEVENT
BEGIN:VEVENT
DTSTART;TZID=Europe/Rome:20251213T153000
DTEND;TZID=Europe/Rome:20251213T163000
DTSTAMP:20260422T032923
CREATED:20251209T093846Z
LAST-MODIFIED:20251212T094522Z
UID:25682-1765639800-1765643400@www.fondazioneguidodarezzo.com
SUMMARY:Il folletto ciabattino
DESCRIPTION:Quante celeberrime favole hanno per protagoniste delle scarpe: scarpe magiche come quelle d’argento di Dorothy nel Mago di Oz\, o gli stivali del gatto di Perrault; scarpe che ballano come quelle piccole e rosse di Andersen\, o come quelle logore dei fratelli Grimm; e non è forse una scarpa che aiuta il principe a ritrovare la sua amata Cenerentola? E che dire delle calosce che esaudiscono desideri ma non danno la felicità a tutti quelli che le provano? \nTutte queste favole ama raccontare il ciabattino alla sua signora\, ma a forza di raccontarle si distrae e mai riesce a terminare per tempo il suo lavoro. \nE adesso: come fare? Come poter riuscire a terminare le scarpe per il giorno dopo? \nMa nella notte\, proprio come in una favola\, sarà l’intervento di un misterioso folletto di nome Leprechaun a togliere le castagne dal fuoco al vecchio ciabattino: e questo per tante notti fino al sopraggiungere della magica notte di Natale. \nEtà consigliata: dai 3 ai 7 anni.
URL:https://www.fondazioneguidodarezzo.com/evento/il-folletto-ciabattino/2025-12-13/
LOCATION:Teatro Pietro Aretino\, Via Bicchieraia\, 32\, Arezzo\, AR\, Arezzo\, AR\, 52100
CATEGORIES:Teatro
ATTACH;FMTTYPE=image/jpeg:https://www.fondazioneguidodarezzo.com/wp-content/uploads/2025/12/Il-folletto-e1765272877307.jpg
ORGANIZER;CN="Fondazione Guido d'Arezzo sezione teatri":MAILTO:teatri@fondazioneguidodarezzo.com
GEO:43.4652138;11.8820518
X-APPLE-STRUCTURED-LOCATION;VALUE=URI;X-ADDRESS=Teatro Pietro Aretino Via Bicchieraia 32 Arezzo AR Arezzo AR 52100;X-APPLE-RADIUS=500;X-TITLE=Via Bicchieraia\, 32\, Arezzo\, AR:geo:11.8820518,43.4652138
END:VEVENT
BEGIN:VEVENT
DTSTART;TZID=Europe/Rome:20251212T183000
DTEND;TZID=Europe/Rome:20251212T193000
DTSTAMP:20260422T032923
CREATED:20251209T093846Z
LAST-MODIFIED:20251212T094522Z
UID:25680-1765564200-1765567800@www.fondazioneguidodarezzo.com
SUMMARY:Il folletto ciabattino
DESCRIPTION:Quante celeberrime favole hanno per protagoniste delle scarpe: scarpe magiche come quelle d’argento di Dorothy nel Mago di Oz\, o gli stivali del gatto di Perrault; scarpe che ballano come quelle piccole e rosse di Andersen\, o come quelle logore dei fratelli Grimm; e non è forse una scarpa che aiuta il principe a ritrovare la sua amata Cenerentola? E che dire delle calosce che esaudiscono desideri ma non danno la felicità a tutti quelli che le provano? \nTutte queste favole ama raccontare il ciabattino alla sua signora\, ma a forza di raccontarle si distrae e mai riesce a terminare per tempo il suo lavoro. \nE adesso: come fare? Come poter riuscire a terminare le scarpe per il giorno dopo? \nMa nella notte\, proprio come in una favola\, sarà l’intervento di un misterioso folletto di nome Leprechaun a togliere le castagne dal fuoco al vecchio ciabattino: e questo per tante notti fino al sopraggiungere della magica notte di Natale. \nEtà consigliata: dai 3 ai 7 anni.
URL:https://www.fondazioneguidodarezzo.com/evento/il-folletto-ciabattino/2025-12-12/
LOCATION:Teatro Pietro Aretino\, Via Bicchieraia\, 32\, Arezzo\, AR\, Arezzo\, AR\, 52100
CATEGORIES:Teatro
ATTACH;FMTTYPE=image/jpeg:https://www.fondazioneguidodarezzo.com/wp-content/uploads/2025/12/Il-folletto-e1765272877307.jpg
ORGANIZER;CN="Fondazione Guido d'Arezzo sezione teatri":MAILTO:teatri@fondazioneguidodarezzo.com
GEO:43.4652138;11.8820518
X-APPLE-STRUCTURED-LOCATION;VALUE=URI;X-ADDRESS=Teatro Pietro Aretino Via Bicchieraia 32 Arezzo AR Arezzo AR 52100;X-APPLE-RADIUS=500;X-TITLE=Via Bicchieraia\, 32\, Arezzo\, AR:geo:11.8820518,43.4652138
END:VEVENT
END:VCALENDAR