BEGIN:VCALENDAR
VERSION:2.0
PRODID:-//Fondazione Guido d&#039;Arezzo - ECPv6.15.18//NONSGML v1.0//EN
CALSCALE:GREGORIAN
METHOD:PUBLISH
X-WR-CALNAME:Fondazione Guido d&#039;Arezzo
X-ORIGINAL-URL:https://www.fondazioneguidodarezzo.com
X-WR-CALDESC:Eventi per Fondazione Guido d&#039;Arezzo
REFRESH-INTERVAL;VALUE=DURATION:PT1H
X-Robots-Tag:noindex
X-PUBLISHED-TTL:PT1H
BEGIN:VTIMEZONE
TZID:Europe/Rome
BEGIN:DAYLIGHT
TZOFFSETFROM:+0100
TZOFFSETTO:+0200
TZNAME:CEST
DTSTART:20240331T010000
END:DAYLIGHT
BEGIN:STANDARD
TZOFFSETFROM:+0200
TZOFFSETTO:+0100
TZNAME:CET
DTSTART:20241027T010000
END:STANDARD
BEGIN:DAYLIGHT
TZOFFSETFROM:+0100
TZOFFSETTO:+0200
TZNAME:CEST
DTSTART:20250330T010000
END:DAYLIGHT
BEGIN:STANDARD
TZOFFSETFROM:+0200
TZOFFSETTO:+0100
TZNAME:CET
DTSTART:20251026T010000
END:STANDARD
BEGIN:DAYLIGHT
TZOFFSETFROM:+0100
TZOFFSETTO:+0200
TZNAME:CEST
DTSTART:20260329T010000
END:DAYLIGHT
BEGIN:STANDARD
TZOFFSETFROM:+0200
TZOFFSETTO:+0100
TZNAME:CET
DTSTART:20261025T010000
END:STANDARD
END:VTIMEZONE
BEGIN:VEVENT
DTSTART;TZID=Europe/Rome:20250319T210000
DTEND;TZID=Europe/Rome:20250319T230000
DTSTAMP:20260421T121241
CREATED:20241004T100042Z
LAST-MODIFIED:20250317T144056Z
UID:21531-1742418000-1742425200@www.fondazioneguidodarezzo.com
SUMMARY:FEDRA
DESCRIPTION:Con questo dramma borghese\, ambientato in una Grecia di cui restano solo rovine\, quasi un Ibsen ante-litteram\, venato di umori freudiani\, Federico Tiezzi torna al mito classico insistendo sull’indagine dei personaggi\, le loro trasformazioni sotto la forza di un desiderio che è colpa e peccato\, spingendosi alla suggestione di una vera e propria seduta psicanalitica. \nTiezzi sceglie di confrontarsi con la versione più moderna e complessa di Fedra\, quella di Jean Racine\, che si ispirò alle versioni del mito tramandate da Euripide e da Seneca.  \nNel palazzo reale di Trezene\, in una Grecia mentale e onirica\, Fedra si dibatte nella morsa di una passione tanto irrefrenabile quanto impossibile: ama il figliastro Ippolito\, figlio di primo letto del marito Teseo.  \nNon ricambiata nella passione\, Fedra calunnia Ippolito di un tentativo di stupro.  \nIl ritorno di Teseo sarà il segnale di un inesorabile tracollo\, che farà precipitare gli eventi verso la tragedia. \n  \ndi Jean Racine\ntraduzione di Giovanni Raboni\nregia di Federico Tiezzi \nscena Franco Raggi\, Gregorio Zurla e Federico Tiezzi\ncostumi Giovanna Buzzi\nluci Gianni Pollini\ncanto Francesca Della Monica\nmovimenti coreografici Cristiana Morganti \ncon Catherine Bertoni de Laet\, Martino D’Amico\, Valentina Elia\, Elena Ghiaurov\, Riccardo Livermore\, Bruna Rossi\, Massimo Verdastro \nproduzione Emilia Romagna Teatro ERT / Teatro Nazionale\, Teatri di Pistoia Centro di Produzione Teatrale\, Compagnia Lombardi-Tiezzi
URL:https://www.fondazioneguidodarezzo.com/evento/fedra/2025-03-19/
LOCATION:Teatro Petrarca
CATEGORIES:Teatro
ATTACH;FMTTYPE=image/jpeg:https://www.fondazioneguidodarezzo.com/wp-content/uploads/2024/10/img34.jpg
ORGANIZER;CN="Fondazione Guido d'Arezzo sezione teatri":MAILTO:teatri@fondazioneguidodarezzo.com
GEO:43.4634066;11.8786102
END:VEVENT
BEGIN:VEVENT
DTSTART;TZID=Europe/Rome:20250318T210000
DTEND;TZID=Europe/Rome:20250318T230000
DTSTAMP:20260421T121241
CREATED:20241004T100042Z
LAST-MODIFIED:20250317T144056Z
UID:21528-1742331600-1742338800@www.fondazioneguidodarezzo.com
SUMMARY:FEDRA
DESCRIPTION:Con questo dramma borghese\, ambientato in una Grecia di cui restano solo rovine\, quasi un Ibsen ante-litteram\, venato di umori freudiani\, Federico Tiezzi torna al mito classico insistendo sull’indagine dei personaggi\, le loro trasformazioni sotto la forza di un desiderio che è colpa e peccato\, spingendosi alla suggestione di una vera e propria seduta psicanalitica. \nTiezzi sceglie di confrontarsi con la versione più moderna e complessa di Fedra\, quella di Jean Racine\, che si ispirò alle versioni del mito tramandate da Euripide e da Seneca.  \nNel palazzo reale di Trezene\, in una Grecia mentale e onirica\, Fedra si dibatte nella morsa di una passione tanto irrefrenabile quanto impossibile: ama il figliastro Ippolito\, figlio di primo letto del marito Teseo.  \nNon ricambiata nella passione\, Fedra calunnia Ippolito di un tentativo di stupro.  \nIl ritorno di Teseo sarà il segnale di un inesorabile tracollo\, che farà precipitare gli eventi verso la tragedia. \n  \ndi Jean Racine\ntraduzione di Giovanni Raboni\nregia di Federico Tiezzi \nscena Franco Raggi\, Gregorio Zurla e Federico Tiezzi\ncostumi Giovanna Buzzi\nluci Gianni Pollini\ncanto Francesca Della Monica\nmovimenti coreografici Cristiana Morganti \ncon Catherine Bertoni de Laet\, Martino D’Amico\, Valentina Elia\, Elena Ghiaurov\, Riccardo Livermore\, Bruna Rossi\, Massimo Verdastro \nproduzione Emilia Romagna Teatro ERT / Teatro Nazionale\, Teatri di Pistoia Centro di Produzione Teatrale\, Compagnia Lombardi-Tiezzi
URL:https://www.fondazioneguidodarezzo.com/evento/fedra/2025-03-18/
LOCATION:Teatro Petrarca
CATEGORIES:Teatro
ATTACH;FMTTYPE=image/jpeg:https://www.fondazioneguidodarezzo.com/wp-content/uploads/2024/10/img34.jpg
ORGANIZER;CN="Fondazione Guido d'Arezzo sezione teatri":MAILTO:teatri@fondazioneguidodarezzo.com
GEO:43.4634066;11.8786102
END:VEVENT
END:VCALENDAR