BEGIN:VCALENDAR
VERSION:2.0
PRODID:-//Fondazione Guido d&#039;Arezzo - ECPv6.15.18//NONSGML v1.0//EN
CALSCALE:GREGORIAN
METHOD:PUBLISH
X-ORIGINAL-URL:https://www.fondazioneguidodarezzo.com
X-WR-CALDESC:Eventi per Fondazione Guido d&#039;Arezzo
REFRESH-INTERVAL;VALUE=DURATION:PT1H
X-Robots-Tag:noindex
X-PUBLISHED-TTL:PT1H
BEGIN:VTIMEZONE
TZID:Europe/Rome
BEGIN:DAYLIGHT
TZOFFSETFROM:+0100
TZOFFSETTO:+0200
TZNAME:CEST
DTSTART:20250330T010000
END:DAYLIGHT
BEGIN:STANDARD
TZOFFSETFROM:+0200
TZOFFSETTO:+0100
TZNAME:CET
DTSTART:20251026T010000
END:STANDARD
BEGIN:DAYLIGHT
TZOFFSETFROM:+0100
TZOFFSETTO:+0200
TZNAME:CEST
DTSTART:20260329T010000
END:DAYLIGHT
BEGIN:STANDARD
TZOFFSETFROM:+0200
TZOFFSETTO:+0100
TZNAME:CET
DTSTART:20261025T010000
END:STANDARD
BEGIN:DAYLIGHT
TZOFFSETFROM:+0100
TZOFFSETTO:+0200
TZNAME:CEST
DTSTART:20270328T010000
END:DAYLIGHT
BEGIN:STANDARD
TZOFFSETFROM:+0200
TZOFFSETTO:+0100
TZNAME:CET
DTSTART:20271031T010000
END:STANDARD
END:VTIMEZONE
BEGIN:VEVENT
DTSTART;TZID=Europe/Rome:20260305T210000
DTEND;TZID=Europe/Rome:20260305T230000
DTSTAMP:20260421T123730
CREATED:20250917T103025Z
LAST-MODIFIED:20260225T075601Z
UID:24791-1772744400-1772751600@www.fondazioneguidodarezzo.com
SUMMARY:ART
DESCRIPTION:diretto e interpretato da Michele Riondino \nART \nDi Yasmina Reza \n  \n«Il mio amico Serge ha comprato un quadro» annuncia Marc\, da solo in scena\, ad apertura di sipario. È una tela di circa un metro e sessanta per un metro e venti\, dipinta di bianco. Il fondo è bianco\, e strizzando gli occhi si possono intravedere delle sottili filettature diagonali\, bianche». Inizia così Art\, la commedia francese contemporanea più recitata al mondo. Tre amici di vecchia data si organizzano per passare una serata insieme\, e il citato quadro bianco a righe bianche si trasforma\, battuta dopo battuta\, nel catalizzatore che porta alla luce nevrosi\, rancori\, rivalità rimasti finora sopiti. In questa commedia crudele e divertente sull’amicizia gli scambi di battute\, sempre più velenose e taglienti\, arrivano a smascherare la fragile impalcatura della relazione tra Marc\, Serge e Yvan\, costruita su egoismo\, vanità e ipocrisia. \n 
URL:https://www.fondazioneguidodarezzo.com/evento/art/2026-03-05/
LOCATION:Teatro Petrarca
CATEGORIES:Teatro,Stagione teatrale
ATTACH;FMTTYPE=image/jpeg:https://www.fondazioneguidodarezzo.com/wp-content/uploads/2025/09/ART-.jpg
ORGANIZER;CN="Fondazione Guido d'Arezzo sezione teatri":MAILTO:teatri@fondazioneguidodarezzo.com
GEO:43.4634066;11.8786102
END:VEVENT
BEGIN:VEVENT
DTSTART;TZID=Europe/Rome:20260304T210000
DTEND;TZID=Europe/Rome:20260304T230000
DTSTAMP:20260421T123730
CREATED:20250917T103025Z
LAST-MODIFIED:20260225T075601Z
UID:24789-1772658000-1772665200@www.fondazioneguidodarezzo.com
SUMMARY:ART
DESCRIPTION:diretto e interpretato da Michele Riondino \nART \nDi Yasmina Reza \n  \n«Il mio amico Serge ha comprato un quadro» annuncia Marc\, da solo in scena\, ad apertura di sipario. È una tela di circa un metro e sessanta per un metro e venti\, dipinta di bianco. Il fondo è bianco\, e strizzando gli occhi si possono intravedere delle sottili filettature diagonali\, bianche». Inizia così Art\, la commedia francese contemporanea più recitata al mondo. Tre amici di vecchia data si organizzano per passare una serata insieme\, e il citato quadro bianco a righe bianche si trasforma\, battuta dopo battuta\, nel catalizzatore che porta alla luce nevrosi\, rancori\, rivalità rimasti finora sopiti. In questa commedia crudele e divertente sull’amicizia gli scambi di battute\, sempre più velenose e taglienti\, arrivano a smascherare la fragile impalcatura della relazione tra Marc\, Serge e Yvan\, costruita su egoismo\, vanità e ipocrisia. \n 
URL:https://www.fondazioneguidodarezzo.com/evento/art/2026-03-04/
LOCATION:Teatro Petrarca
CATEGORIES:Teatro,Stagione teatrale
ATTACH;FMTTYPE=image/jpeg:https://www.fondazioneguidodarezzo.com/wp-content/uploads/2025/09/ART-.jpg
ORGANIZER;CN="Fondazione Guido d'Arezzo sezione teatri":MAILTO:teatri@fondazioneguidodarezzo.com
GEO:43.4634066;11.8786102
END:VEVENT
END:VCALENDAR