BEGIN:VCALENDAR
VERSION:2.0
PRODID:-//Fondazione Guido d&#039;Arezzo - ECPv6.15.18//NONSGML v1.0//EN
CALSCALE:GREGORIAN
METHOD:PUBLISH
X-WR-CALNAME:Fondazione Guido d&#039;Arezzo
X-ORIGINAL-URL:https://www.fondazioneguidodarezzo.com
X-WR-CALDESC:Eventi per Fondazione Guido d&#039;Arezzo
REFRESH-INTERVAL;VALUE=DURATION:PT1H
X-Robots-Tag:noindex
X-PUBLISHED-TTL:PT1H
BEGIN:VTIMEZONE
TZID:Europe/Rome
BEGIN:DAYLIGHT
TZOFFSETFROM:+0100
TZOFFSETTO:+0200
TZNAME:CEST
DTSTART:20250330T010000
END:DAYLIGHT
BEGIN:STANDARD
TZOFFSETFROM:+0200
TZOFFSETTO:+0100
TZNAME:CET
DTSTART:20251026T010000
END:STANDARD
BEGIN:DAYLIGHT
TZOFFSETFROM:+0100
TZOFFSETTO:+0200
TZNAME:CEST
DTSTART:20260329T010000
END:DAYLIGHT
BEGIN:STANDARD
TZOFFSETFROM:+0200
TZOFFSETTO:+0100
TZNAME:CET
DTSTART:20261025T010000
END:STANDARD
BEGIN:DAYLIGHT
TZOFFSETFROM:+0100
TZOFFSETTO:+0200
TZNAME:CEST
DTSTART:20270328T010000
END:DAYLIGHT
BEGIN:STANDARD
TZOFFSETFROM:+0200
TZOFFSETTO:+0100
TZNAME:CET
DTSTART:20271031T010000
END:STANDARD
END:VTIMEZONE
BEGIN:VEVENT
DTSTART;TZID=Europe/Rome:20260107T210000
DTEND;TZID=Europe/Rome:20260107T230000
DTSTAMP:20260422T074319
CREATED:20250917T103006Z
LAST-MODIFIED:20251230T163951Z
UID:25247-1767819600-1767826800@www.fondazioneguidodarezzo.com
SUMMARY:AMLETO²
DESCRIPTION:Filippo Timi \nAMLETO2 \n  \nTimi prende il testo shakespeariano e lo stravolge\, rovescia passioni e personaggi nella stessa gabbia da circo all’interno della quale si svolge questo elogio della follia.\nDi fronte alla realtà\, di fronte a certi irrimediabili eventi\, il cuore e il cervello impazziscono\, hanno bisogno di trovare fughe per non soffrire. Ridere è la risposta della coscienza alla tragedia? Ridere il pianto. Ridere la morte. Ridere l’abbandono. Ridere il tradimento. Ridere la follia. Un Amleto spiazzante\, comico\, furibondo\, folle e colorato.\nDi fronte alla tragedia esistono due possibilità: soccombere o esplodere nel massimo della vitalità.\nTimi ha scelto la seconda\, trasformando la tragedia in commedia\, tra potere e oblio\, tra frivolezza e pazzia; esasperando così la radice comica di Shakespeare che faceva dire a Nietzsche: “non conosco lettura più straziante di Shakespeare: cosa deve aver sofferto un uomo per avere a tal punto bisogno\ndi fare il pagliaccio”.\nIl suo è un Amleto annoiato\, che non ha più voglia di interpretare la solita solfa familiare\, non ha più voglia di amare Ofelia\, non ha più voglia di niente.\nInvano voci fuori campo lo richiamano al suo destino.
URL:https://www.fondazioneguidodarezzo.com/evento/amleto2/2026-01-07/
LOCATION:Teatro Petrarca
CATEGORIES:Stagione teatrale,Teatro
ATTACH;FMTTYPE=image/jpeg:https://www.fondazioneguidodarezzo.com/wp-content/uploads/2025/09/Filippo-Timi-in-Amleto2-foto-di-Annapaola-Martin.jpeg
ORGANIZER;CN="Fondazione Guido d'Arezzo sezione teatri":MAILTO:teatri@fondazioneguidodarezzo.com
GEO:43.4634066;11.8786102
END:VEVENT
BEGIN:VEVENT
DTSTART;TZID=Europe/Rome:20260106T210000
DTEND;TZID=Europe/Rome:20260106T230000
DTSTAMP:20260422T074319
CREATED:20250917T103006Z
LAST-MODIFIED:20251230T163951Z
UID:24781-1767733200-1767740400@www.fondazioneguidodarezzo.com
SUMMARY:AMLETO²
DESCRIPTION:Filippo Timi \nAMLETO2 \n  \nTimi prende il testo shakespeariano e lo stravolge\, rovescia passioni e personaggi nella stessa gabbia da circo all’interno della quale si svolge questo elogio della follia.\nDi fronte alla realtà\, di fronte a certi irrimediabili eventi\, il cuore e il cervello impazziscono\, hanno bisogno di trovare fughe per non soffrire. Ridere è la risposta della coscienza alla tragedia? Ridere il pianto. Ridere la morte. Ridere l’abbandono. Ridere il tradimento. Ridere la follia. Un Amleto spiazzante\, comico\, furibondo\, folle e colorato.\nDi fronte alla tragedia esistono due possibilità: soccombere o esplodere nel massimo della vitalità.\nTimi ha scelto la seconda\, trasformando la tragedia in commedia\, tra potere e oblio\, tra frivolezza e pazzia; esasperando così la radice comica di Shakespeare che faceva dire a Nietzsche: “non conosco lettura più straziante di Shakespeare: cosa deve aver sofferto un uomo per avere a tal punto bisogno\ndi fare il pagliaccio”.\nIl suo è un Amleto annoiato\, che non ha più voglia di interpretare la solita solfa familiare\, non ha più voglia di amare Ofelia\, non ha più voglia di niente.\nInvano voci fuori campo lo richiamano al suo destino.
URL:https://www.fondazioneguidodarezzo.com/evento/amleto2/2026-01-06/
LOCATION:Teatro Petrarca
CATEGORIES:Stagione teatrale,Teatro
ATTACH;FMTTYPE=image/jpeg:https://www.fondazioneguidodarezzo.com/wp-content/uploads/2025/09/Filippo-Timi-in-Amleto2-foto-di-Annapaola-Martin.jpeg
ORGANIZER;CN="Fondazione Guido d'Arezzo sezione teatri":MAILTO:teatri@fondazioneguidodarezzo.com
GEO:43.4634066;11.8786102
END:VEVENT
END:VCALENDAR