BEGIN:VCALENDAR
VERSION:2.0
PRODID:-//Fondazione Guido d&#039;Arezzo - ECPv6.15.18//NONSGML v1.0//EN
CALSCALE:GREGORIAN
METHOD:PUBLISH
X-WR-CALNAME:Fondazione Guido d&#039;Arezzo
X-ORIGINAL-URL:https://www.fondazioneguidodarezzo.com
X-WR-CALDESC:Eventi per Fondazione Guido d&#039;Arezzo
REFRESH-INTERVAL;VALUE=DURATION:PT1H
X-Robots-Tag:noindex
X-PUBLISHED-TTL:PT1H
BEGIN:VTIMEZONE
TZID:Europe/Rome
BEGIN:DAYLIGHT
TZOFFSETFROM:+0100
TZOFFSETTO:+0200
TZNAME:CEST
DTSTART:20250330T010000
END:DAYLIGHT
BEGIN:STANDARD
TZOFFSETFROM:+0200
TZOFFSETTO:+0100
TZNAME:CET
DTSTART:20251026T010000
END:STANDARD
BEGIN:DAYLIGHT
TZOFFSETFROM:+0100
TZOFFSETTO:+0200
TZNAME:CEST
DTSTART:20260329T010000
END:DAYLIGHT
BEGIN:STANDARD
TZOFFSETFROM:+0200
TZOFFSETTO:+0100
TZNAME:CET
DTSTART:20261025T010000
END:STANDARD
BEGIN:DAYLIGHT
TZOFFSETFROM:+0100
TZOFFSETTO:+0200
TZNAME:CEST
DTSTART:20270328T010000
END:DAYLIGHT
BEGIN:STANDARD
TZOFFSETFROM:+0200
TZOFFSETTO:+0100
TZNAME:CET
DTSTART:20271031T010000
END:STANDARD
END:VTIMEZONE
BEGIN:VEVENT
DTSTART;VALUE=DATE:20261128
DTEND;VALUE=DATE:20261130
DTSTAMP:20260422T200711
CREATED:20260325T102206Z
LAST-MODIFIED:20260325T103655Z
UID:27124-1795824000-1795996799@www.fondazioneguidodarezzo.com
SUMMARY:43° Concorso Polifonico Nazionale “Guido d’Arezzo” 2026
DESCRIPTION:Torna ad Arezzo il Concorso Polifonico Nazionale “Guido d’Arezzo”\, il più importante concorso Italiano che avrà luogo nella Chiesa di San Domenico. È riservato a cori amatoriali provenienti da tutta Italia\, suddivisi in categorie di musica sacra e profana. \nBando e info: polifonico.org
URL:https://www.fondazioneguidodarezzo.com/evento/43-concorso-polifonico-nazionale-guido-darezzo-2026/
LOCATION:Chiesa di San Domenico\, Piazza San Domenico\, Arezzo\, AR\, Arezzo\, AR\, 52100\, Italia
ATTACH;FMTTYPE=image/jpeg:https://www.fondazioneguidodarezzo.com/wp-content/uploads/2026/03/immagine-per-sito.jpeg
ORGANIZER;CN="Fondazione Guido d'Arezzo sezione Polifonico":MAILTO:polifonico@fondazioneguidodarezzo.com
GEO:43.4686503;11.881475
X-APPLE-STRUCTURED-LOCATION;VALUE=URI;X-ADDRESS=Chiesa di San Domenico Piazza San Domenico Arezzo AR Arezzo AR 52100 Italia;X-APPLE-RADIUS=500;X-TITLE=Piazza San Domenico\, Arezzo\, AR:geo:11.881475,43.4686503
END:VEVENT
END:VCALENDAR