BEGIN:VCALENDAR
VERSION:2.0
PRODID:-//Fondazione Guido d&#039;Arezzo - ECPv6.15.18//NONSGML v1.0//EN
CALSCALE:GREGORIAN
METHOD:PUBLISH
X-ORIGINAL-URL:https://www.fondazioneguidodarezzo.com
X-WR-CALDESC:Eventi per Fondazione Guido d&#039;Arezzo
REFRESH-INTERVAL;VALUE=DURATION:PT1H
X-Robots-Tag:noindex
X-PUBLISHED-TTL:PT1H
BEGIN:VTIMEZONE
TZID:Europe/Rome
BEGIN:DAYLIGHT
TZOFFSETFROM:+0100
TZOFFSETTO:+0200
TZNAME:CEST
DTSTART:20240331T010000
END:DAYLIGHT
BEGIN:STANDARD
TZOFFSETFROM:+0200
TZOFFSETTO:+0100
TZNAME:CET
DTSTART:20241027T010000
END:STANDARD
BEGIN:DAYLIGHT
TZOFFSETFROM:+0100
TZOFFSETTO:+0200
TZNAME:CEST
DTSTART:20250330T010000
END:DAYLIGHT
BEGIN:STANDARD
TZOFFSETFROM:+0200
TZOFFSETTO:+0100
TZNAME:CET
DTSTART:20251026T010000
END:STANDARD
BEGIN:DAYLIGHT
TZOFFSETFROM:+0100
TZOFFSETTO:+0200
TZNAME:CEST
DTSTART:20260329T010000
END:DAYLIGHT
BEGIN:STANDARD
TZOFFSETFROM:+0200
TZOFFSETTO:+0100
TZNAME:CET
DTSTART:20261025T010000
END:STANDARD
END:VTIMEZONE
BEGIN:VEVENT
DTSTART;TZID=Europe/Rome:20250704T211500
DTEND;TZID=Europe/Rome:20250704T230000
DTSTAMP:20260421T140914
CREATED:20250616T095152Z
LAST-MODIFIED:20250617T063605Z
UID:23591-1751663700-1751670000@www.fondazioneguidodarezzo.com
SUMMARY:La Fisica dell'Estate
DESCRIPTION:Schettini\, professore\, musicista\, youtuber e tiktoker\, diventato un vero e proprio “one man show”\, è capace di attrarre pubblico di tutte le età con la sua capacità di spiegare la scienza in modo coinvolgente e stimolante in una fusione perfetta tra cultura e intrattenimento. Con il suo stile unico\, riuscirà a trasmettere l’entusiasmo per la fisica\, utilizzando una serie di esempi pratici\, aneddoti divertenti e sorprendenti esperimenti dal vivo.
URL:https://www.fondazioneguidodarezzo.com/evento/la-fisica-dellestate/
LOCATION:Fortezza Medicea\, Arezzo\, Italy
ATTACH;FMTTYPE=image/jpeg:https://www.fondazioneguidodarezzo.com/wp-content/uploads/2025/06/IMG_2653.jpeg
ORGANIZER;CN="Fondazione Guido d'Arezzo":MAILTO:info@fondazioneguidodarezzo.com
GEO:43.4633082;11.8796215
END:VEVENT
BEGIN:VEVENT
DTSTART;TZID=Europe/Rome:20250705T090000
DTEND;TZID=Europe/Rome:20250705T170000
DTSTAMP:20260421T140914
CREATED:20241018T113400Z
LAST-MODIFIED:20250605T121041Z
UID:21778-1751706000-1751734800@www.fondazioneguidodarezzo.com
SUMMARY:Masterclass di direzione di coro: repertorio barocco per Coro e Orchestra
DESCRIPTION:Masterclass di direzione di coro con il Maestro Antonio Greco | Repertorio barocco per Coro e Orchestra \nCoro e Ensemble 1685 – Conservatorio “G. Verdi” di Ravenna
URL:https://www.fondazioneguidodarezzo.com/evento/masterclass-di-direzione-di-coro-repertorio-barocco-per-coro-e-orchestra/
LOCATION:Conservatorio G. Verdi\, Ravenna\, Italy
CATEGORIES:Masterclass,Attività Polifoniche,Scuola direttori coro
ORGANIZER;CN="Fondazione Guido d'Arezzo sezione Polifonico":MAILTO:polifonico@fondazioneguidodarezzo.com
GEO:41.87194;12.56738
END:VEVENT
BEGIN:VEVENT
DTSTART;TZID=Europe/Rome:20250718T211500
DTEND;TZID=Europe/Rome:20250718T230000
DTSTAMP:20260421T140914
CREATED:20250616T095806Z
LAST-MODIFIED:20250617T104047Z
UID:23593-1752873300-1752879600@www.fondazioneguidodarezzo.com
SUMMARY:Stefania Andreoli legge Labatut
DESCRIPTION:“Quando abbiamo smesso di capire il mondo” e provare a ricominciare.\nIl mondo è più che mai irriconoscibile e per quanto terrore possa generare\, Benjamín Labatut nei suoi singolarissimi e appassionanti libri ha scelto di non fingere che sia così.\nAndreoli allora legge Labatut con l’intenzione di attirarci e portarci ai confini del pensiero\, tra bellezza e vertigine – come in ogni forma di tentativo. Per i due autori\, oggi\, un atto necessario.
URL:https://www.fondazioneguidodarezzo.com/evento/legge-labatut/
LOCATION:Fortezza Medicea\, Arezzo\, Italy
ATTACH;FMTTYPE=image/jpeg:https://www.fondazioneguidodarezzo.com/wp-content/uploads/2025/06/IMG_2654.jpeg
ORGANIZER;CN="Fondazione Guido d'Arezzo":MAILTO:info@fondazioneguidodarezzo.com
GEO:43.4633082;11.8796215
END:VEVENT
BEGIN:VEVENT
DTSTART;TZID=Europe/Rome:20250721T211500
DTEND;TZID=Europe/Rome:20250721T230000
DTSTAMP:20260421T140914
CREATED:20250616T100028Z
LAST-MODIFIED:20250617T064328Z
UID:23595-1753132500-1753138800@www.fondazioneguidodarezzo.com
SUMMARY:La Zanzara Tour
DESCRIPTION:Dopo anni di irriverenza radiofonica\, La Zanzara di Giuseppe Cruciani e David Parenzo sbarca nei teatri con uno show senza filtri\, prodotto da Paolo Ruffini per VERA Produzione.\nUn mix esplosivo tra talk show e happening live\, dove politica\, costume e provocazione si fondono in un’esperienza caustica e imprevedibile. Ospiti a rotazione e un pubblico protagonista\nrendono ogni serata unica. Per chi ama la libertà di parola.. senza censure.
URL:https://www.fondazioneguidodarezzo.com/evento/la-zanzara-tour/
LOCATION:Fortezza Medicea\, Arezzo\, Italy
ATTACH;FMTTYPE=image/jpeg:https://www.fondazioneguidodarezzo.com/wp-content/uploads/2025/06/IMG_2655.jpeg
ORGANIZER;CN="Fondazione Guido d'Arezzo":MAILTO:info@fondazioneguidodarezzo.com
GEO:43.4633082;11.8796215
END:VEVENT
BEGIN:VEVENT
DTSTART;TZID=Europe/Rome:20250724T210000
DTEND;TZID=Europe/Rome:20250724T210000
DTSTAMP:20260421T140914
CREATED:20250723T092919Z
LAST-MODIFIED:20250723T092919Z
UID:24048-1753390800-1753390800@www.fondazioneguidodarezzo.com
SUMMARY:Alcina
DESCRIPTION:
URL:https://www.fondazioneguidodarezzo.com/evento/alcina/
LOCATION:Chiostro del Comune di Arezzo
CATEGORIES:Musica
ATTACH;FMTTYPE=image/jpeg:https://www.fondazioneguidodarezzo.com/wp-content/uploads/2025/07/manifesto-200x140-2-1.jpg
END:VEVENT
BEGIN:VEVENT
DTSTART;TZID=Europe/Rome:20250724T213000
DTEND;TZID=Europe/Rome:20250724T230000
DTSTAMP:20260421T140914
CREATED:20250616T100550Z
LAST-MODIFIED:20250617T064430Z
UID:23597-1753392600-1753398000@www.fondazioneguidodarezzo.com
SUMMARY:ABBADREAM Tribute
DESCRIPTION:Gli ABBAdream hanno incantato migliaia di spettatori\, riproponendo i più grandi successi degli ABBA\, con il loro stile inimitabile.\nLo show è rinomato per l’eccellente livello musicale degli artisti\, le esibizioni rigorosamente dal vivo e i costumi originali\, uniti all’energia che questa band scatena sul palcoscenico.\nSenza dubbio\, il miglior tributo agli ABBA che si possa immaginare.
URL:https://www.fondazioneguidodarezzo.com/evento/abbadream-tribute/
LOCATION:Fortezza Medicea\, Arezzo\, Italy
ATTACH;FMTTYPE=image/jpeg:https://www.fondazioneguidodarezzo.com/wp-content/uploads/2025/06/IMG_2656.jpeg
ORGANIZER;CN="Fondazione Guido d'Arezzo":MAILTO:info@fondazioneguidodarezzo.com
GEO:43.4633082;11.8796215
END:VEVENT
BEGIN:VEVENT
DTSTART;TZID=Europe/Rome:20250725T210000
DTEND;TZID=Europe/Rome:20250725T223000
DTSTAMP:20260421T140914
CREATED:20250723T093435Z
LAST-MODIFIED:20250723T093435Z
UID:24052-1753477200-1753482600@www.fondazioneguidodarezzo.com
SUMMARY:Alcina
DESCRIPTION:
URL:https://www.fondazioneguidodarezzo.com/evento/alcina-2/
LOCATION:Chiostro del Comune di Arezzo
CATEGORIES:Musica
ATTACH;FMTTYPE=image/jpeg:https://www.fondazioneguidodarezzo.com/wp-content/uploads/2025/07/manifesto-200x140-2-1.jpg
END:VEVENT
BEGIN:VEVENT
DTSTART;TZID=Europe/Rome:20250726T213000
DTEND;TZID=Europe/Rome:20250726T230000
DTSTAMP:20260421T140914
CREATED:20250723T084819Z
LAST-MODIFIED:20250723T090517Z
UID:24040-1753565400-1753570800@www.fondazioneguidodarezzo.com
SUMMARY:Jazz on Broadway
DESCRIPTION:Gran finale di Opera Seme Festival – III Ed. \nSul palco ventitré giovani cantanti diretti da Matthew Schloneger e Gianni Bruschi con la direzione di orchestra di Ana Flavia Zuin. Un viaggio attraverso i grandi musical: West Side Story\, The Sound of Music\, Sister Act\, The Princess and the Frog\, Kismet\, Violet\, Candide\, My Fair Lady\, The Secret Garden\, Les Misérables\, The pajama game\, The Phantom of the Opera e molti altri. \n\nJAZZ ON BROADWAY\nAna Flavia Zuin\, Direzione d’Orchestra\nLorenzo Rossi\, Direzione Musicale\nOIDA Orchestra Instabile di Arezzo: \nViolino primo – Lorenzo Rossi\nViolino secondo – Isabella Spadaro\nViola – Erika Capanni\nVioloncello – Elisa Pieschi\nTromba – Francesco Giustini\nSax tenore – Martino Luxich\nSax soprano e contralto – Serena Tarozzo\nTrombone – Mattia Cenni\nBatteria – Lorenzo Caporalini\nContrabbasso – Giacomo Rossi\nPianoforte – Lorenzo Magi\, Paula Gelpi\, Ana Flavia Zuim \nCantanti:\nLauren Mahoney\, Bailey Barefoot\, Jack Delman\, Ethan Eliafan\, Emily Harrington\, Anastasia Inglima\, John Jovicich\, Olivia Kellett\, Cadie Logston\, Steiger Manson\, Ramon Mosate\, Emalyn Nicholson\, Michelle Perez\, Hannah Prince\, Daniela Reyes Flores\, Karah Rhoades\, Evan Richards\, Katelynn Shepherd\, Elise Strain\, Wanda Sullivan\, Daisha Venson\, Verity Prior Harden \nNota sulla direttrice d’orchestra:\nAna Flavia Zuim\, da New York\, è riconosciuta come una delle più grandi esperte nel suo campo\, con oltre 70 produzioni teatrali musicali all’attivo\, tra cui il musical di Broadway Hamilton. Ha vinto più volte The American Prize per la direzione d’orchestra. \nBiglietteria: Teatro Petrarca dalle ore 19.00\, il giorno del concerto\nPrevendita online: www.ticketone.it e Officine della Cultura
URL:https://www.fondazioneguidodarezzo.com/evento/jazz-on-broadway/
LOCATION:Teatro Petrarca
CATEGORIES:Musica,Jazz
ATTACH;FMTTYPE=image/jpeg:https://www.fondazioneguidodarezzo.com/wp-content/uploads/2025/07/Broadway-concert-2025web-1.jpg
GEO:43.4634066;11.8786102
END:VEVENT
BEGIN:VEVENT
DTSTART;TZID=Europe/Rome:20250727T194500
DTEND;TZID=Europe/Rome:20250727T204500
DTSTAMP:20260421T140914
CREATED:20250616T105203Z
LAST-MODIFIED:20250617T064818Z
UID:23605-1753645500-1753649100@www.fondazioneguidodarezzo.com
SUMMARY:La danza delle emozioni
DESCRIPTION:Ogni passo\, ogni gesto\, ogni nota racconta un’emozione vissuta\, condivisa\, trasformata in arte. “La Danza delle Emozioni” è il galà finale del festival InDanza&InArte che\, promosso dall’associazione culturale Progetti Per La Danza\, porterà sul palcoscenico il talento\, la passione e la dedizione di danzatori di fama nazionale e internazionale per regalare uno spettacolo intenso e coinvolgente. \nL’evento\, condotto da Marzia Fontana\, è l’epilogo di una settimana di incontri\, laboratori e percorsi formativi che troverà compimento proprio nella serata in Fortezza con un’occasione di condivisione con la città dove coreografie originali si uniranno alla musica dal vivo in virtù anche della collaborazione con la compagnia Opus Ballet di Firenze e con la scuola ProximaMusic di Arezzo. Compagnie\, ballerini e musicisti si alterneranno armoniosamente sul palcoscenico in una coinvolgente e intensa esperienza per valorizzare i giovani talenti\, concretizzare i loro sogni e regalare emozioni attraverso l’arte. \n 
URL:https://www.fondazioneguidodarezzo.com/evento/la-danza-delle-emozioni/
LOCATION:Fortezza Medicea\, Arezzo\, Italy
ATTACH;FMTTYPE=image/jpeg:https://www.fondazioneguidodarezzo.com/wp-content/uploads/2025/06/foto-fortezza-2-1.jpeg
ORGANIZER;CN="Fondazione Guido d'Arezzo":MAILTO:info@fondazioneguidodarezzo.com
GEO:43.4633082;11.8796215
END:VEVENT
BEGIN:VEVENT
DTSTART;TZID=Europe/Rome:20250729T213000
DTEND;TZID=Europe/Rome:20250729T230000
DTSTAMP:20260421T140914
CREATED:20250616T100907Z
LAST-MODIFIED:20250617T064937Z
UID:23600-1753824600-1753830000@www.fondazioneguidodarezzo.com
SUMMARY:Enrico Nigiotti - Summer Tour 2025
DESCRIPTION:Dopo anni di carriera ricca di successi e collaborazioni importanti \, Enrico Nigiotti continua ad emozionare il pubblico con il suo linguaggio immediato e la sua capacità unica di\nraccontare storie attraverso la musica. Un concerto che si distingue per la sua genuinità e l’approccio “senza fronzoli”\, in cui la musica sarà la vera protagonista. Uno spettacolo intenso\, fatto di emozioni sincere e di una performance live che non ha bisogno di altro per conquistare il cuore di chi lo ascolta.
URL:https://www.fondazioneguidodarezzo.com/evento/enrico-nigiotti-summer-tour-2025/
LOCATION:Fortezza Medicea\, Arezzo\, Italy
ATTACH;FMTTYPE=image/jpeg:https://www.fondazioneguidodarezzo.com/wp-content/uploads/2025/06/IMG_2657.jpeg
ORGANIZER;CN="Fondazione Guido d'Arezzo":MAILTO:info@fondazioneguidodarezzo.com
GEO:43.4633082;11.8796215
END:VEVENT
BEGIN:VEVENT
DTSTART;TZID=Europe/Rome:20250731T211500
DTEND;TZID=Europe/Rome:20250731T230000
DTSTAMP:20260421T140914
CREATED:20250616T101232Z
LAST-MODIFIED:20250617T065103Z
UID:23602-1753996500-1754002800@www.fondazioneguidodarezzo.com
SUMMARY:Omaggio a Morricone - Musiche da Oscar
DESCRIPTION:l “Maestro” non ha bisogno di troppe presentazioni: le sue composizioni hanno affascinato intere generazioni e attraversato\nsvariati generi musicali\, facendo di lui il più importante compositore di colonne sonore di tutti i tempi.\nIl protagonista strumentale del concerto sarà il prestigioso Ensemble LE MUSE\, tutto al femminile\, diretto dal M° Andrea Albertini.
URL:https://www.fondazioneguidodarezzo.com/evento/omaggio-a-morricone-musiche-da-oscar/
LOCATION:Fortezza Medicea\, Arezzo\, Italy
ATTACH;FMTTYPE=image/jpeg:https://www.fondazioneguidodarezzo.com/wp-content/uploads/2025/06/IMG_2659.jpeg
ORGANIZER;CN="Fondazione Guido d'Arezzo":MAILTO:info@fondazioneguidodarezzo.com
GEO:43.4633082;11.8796215
END:VEVENT
END:VCALENDAR