BEGIN:VCALENDAR
VERSION:2.0
PRODID:-//Fondazione Guido d&#039;Arezzo - ECPv6.15.18//NONSGML v1.0//EN
CALSCALE:GREGORIAN
METHOD:PUBLISH
X-WR-CALNAME:Fondazione Guido d&#039;Arezzo
X-ORIGINAL-URL:https://www.fondazioneguidodarezzo.com
X-WR-CALDESC:Eventi per Fondazione Guido d&#039;Arezzo
REFRESH-INTERVAL;VALUE=DURATION:PT1H
X-Robots-Tag:noindex
X-PUBLISHED-TTL:PT1H
BEGIN:VTIMEZONE
TZID:Europe/Rome
BEGIN:DAYLIGHT
TZOFFSETFROM:+0100
TZOFFSETTO:+0200
TZNAME:CEST
DTSTART:20240331T010000
END:DAYLIGHT
BEGIN:STANDARD
TZOFFSETFROM:+0200
TZOFFSETTO:+0100
TZNAME:CET
DTSTART:20241027T010000
END:STANDARD
BEGIN:DAYLIGHT
TZOFFSETFROM:+0100
TZOFFSETTO:+0200
TZNAME:CEST
DTSTART:20250330T010000
END:DAYLIGHT
BEGIN:STANDARD
TZOFFSETFROM:+0200
TZOFFSETTO:+0100
TZNAME:CET
DTSTART:20251026T010000
END:STANDARD
BEGIN:DAYLIGHT
TZOFFSETFROM:+0100
TZOFFSETTO:+0200
TZNAME:CEST
DTSTART:20260329T010000
END:DAYLIGHT
BEGIN:STANDARD
TZOFFSETFROM:+0200
TZOFFSETTO:+0100
TZNAME:CET
DTSTART:20261025T010000
END:STANDARD
END:VTIMEZONE
BEGIN:VEVENT
DTSTART;TZID=Europe/Rome:20250601T203000
DTEND;TZID=Europe/Rome:20250601T223000
DTSTAMP:20260421T123328
CREATED:20250115T111537Z
LAST-MODIFIED:20250519T095604Z
UID:22270-1748809800-1748817000@www.fondazioneguidodarezzo.com
SUMMARY:Concerto per la Festa della Repubblica
DESCRIPTION:Orchestra del Maggio Musicale Fiorentino\nCornelius Meister\, direttore\nMonica Bacelli\, mezzosoprano \n  \nProgramma  \nCarl Maria von Weber Der Freischütz\, Ouverture \nL. Berio Folk Songs\, con la partecipazione del mezzosoprano Monica Bacelli \nR. Schumann Sinfonia n. 4 in re min. op. 120
URL:https://www.fondazioneguidodarezzo.com/evento/concerto-sinfonico/
LOCATION:Auditorium\, Via Spallanzani Arezzo\, Arezzo\, AR\, 52100\, Italia
CATEGORIES:Musica,Classica,Lirica
ATTACH;FMTTYPE=image/jpeg:https://www.fondazioneguidodarezzo.com/wp-content/uploads/2025/01/1-giugno.jpg
ORGANIZER;CN="Fondazione Guido d'Arezzo sezione teatri":MAILTO:teatri@fondazioneguidodarezzo.com
GEO:43.46497221805;11.880119240427
X-APPLE-STRUCTURED-LOCATION;VALUE=URI;X-ADDRESS=Auditorium Via Spallanzani Arezzo Arezzo AR 52100 Italia;X-APPLE-RADIUS=500;X-TITLE=Via Spallanzani Arezzo:geo:11.880119240427,43.46497221805
END:VEVENT
BEGIN:VEVENT
DTSTART;TZID=Europe/Rome:20250607T090000
DTEND;TZID=Europe/Rome:20250608T170000
DTSTAMP:20260421T123328
CREATED:20241018T111834Z
LAST-MODIFIED:20241018T112422Z
UID:21769-1749286800-1749402000@www.fondazioneguidodarezzo.com
SUMMARY:Masterclass direzione di coro: Palestrina e l’Europa
DESCRIPTION:Masterclass di direzione di coro con il Maestro Walter Marzilli | Palestrina e l’Europa \nCoro Laboratorio – Scuola
URL:https://www.fondazioneguidodarezzo.com/evento/masterclass-direzione-di-coro-2/
LOCATION:Fondazione Guido d’Arezzo\, Corso Italia\, Arezzo\, AR\, Italia\, Arezzo\, AR\, 52100\, Italia
CATEGORIES:Attività Polifoniche,Scuola direttori coro,Masterclass
ORGANIZER;CN="Fondazione Guido d'Arezzo sezione Polifonico":MAILTO:polifonico@fondazioneguidodarezzo.com
GEO:43.464063317371;11.88161851336
X-APPLE-STRUCTURED-LOCATION;VALUE=URI;X-ADDRESS=Fondazione Guido d’Arezzo Corso Italia Arezzo AR Italia Arezzo AR 52100 Italia;X-APPLE-RADIUS=500;X-TITLE=Corso Italia\, Arezzo\, AR\, Italia:geo:11.88161851336,43.464063317371
END:VEVENT
BEGIN:VEVENT
DTSTART;TZID=Europe/Rome:20250621T090000
DTEND;TZID=Europe/Rome:20250622T170000
DTSTAMP:20260421T123328
CREATED:20241018T112653Z
LAST-MODIFIED:20241018T112653Z
UID:21776-1750496400-1750611600@www.fondazioneguidodarezzo.com
SUMMARY:Masterclass di direzione di coro: repertorio del ‘900 e contemporaneo
DESCRIPTION:Masterclass di direzione di coro con il Maestro Petra Grassi | Repertorio del ‘900 e contemporaneo \nCoro Vikra
URL:https://www.fondazioneguidodarezzo.com/evento/masterclass-di-direzione-di-coro-repertorio-del-900-e-contemporaneo/
LOCATION:Fondazione Guido d’Arezzo\, Corso Italia\, Arezzo\, AR\, Italia\, Arezzo\, AR\, 52100\, Italia
CATEGORIES:Attività Polifoniche,Scuola direttori coro,Masterclass
ORGANIZER;CN="Fondazione Guido d'Arezzo sezione Polifonico":MAILTO:polifonico@fondazioneguidodarezzo.com
GEO:43.464063317371;11.88161851336
X-APPLE-STRUCTURED-LOCATION;VALUE=URI;X-ADDRESS=Fondazione Guido d’Arezzo Corso Italia Arezzo AR Italia Arezzo AR 52100 Italia;X-APPLE-RADIUS=500;X-TITLE=Corso Italia\, Arezzo\, AR\, Italia:geo:11.88161851336,43.464063317371
END:VEVENT
BEGIN:VEVENT
DTSTART;TZID=Europe/Rome:20250621T123000
DTEND;TZID=Europe/Rome:20250621T133000
DTSTAMP:20260421T123328
CREATED:20250612T190929Z
LAST-MODIFIED:20250613T065218Z
UID:23366-1750509000-1750512600@www.fondazioneguidodarezzo.com
SUMMARY:Guido Day 2025
DESCRIPTION:Decima edizione – 𝗚𝘂𝗶𝗱𝗼 𝗗𝗮𝘆  – Premio Internazionale \nSabato 21 giugno 2025\, ore 12:30 \nPiazza San Francesco\, Arezzo \nAl termine della “Cerimonia di lettura del Bando della Giostra del Saracino“ \nAl termine della “𝑪𝒆𝒓𝒊𝒎𝒐𝒏𝒊𝒂 𝒅𝒊 𝒍𝒆𝒕𝒕𝒖𝒓𝒂 𝒅𝒆𝒍 𝑩𝒂𝒏𝒅𝒐 𝒅𝒆𝒍𝒍𝒂 𝑮𝒊𝒐𝒔𝒕𝒓𝒂 𝒅𝒆𝒍 𝑺𝒂𝒓𝒂𝒄𝒊𝒏𝒐”\, si svolgerà la Cerimonia di consegna del 𝐏𝐫𝐞𝐦𝐢𝐨 𝐈𝐧𝐭𝐞𝐫𝐧𝐚𝐳𝐢𝐨𝐧𝐚𝐥𝐞\, riconoscimento assegnato ogni anno a figure che si sono distinte nella promozione della 𝒄𝒖𝒍𝒕𝒖𝒓𝒂 𝒎𝒖𝒔𝒊𝒄𝒂𝒍𝒆. \nPremiati 2025:\n𝗚𝗿𝘂𝗽𝗽𝗼 𝗠𝘂𝘀𝗶𝗰𝗶 𝗚𝗶𝗼𝘀𝘁𝗿𝗮 𝗱𝗲𝗹 𝗦𝗮𝗿𝗮𝗰𝗶𝗻𝗼\n𝗥𝗼𝗯𝗲𝗿𝘁𝗼 𝗙𝗮𝗯𝗯𝗿𝗶𝗰𝗶𝗮𝗻𝗶
URL:https://www.fondazioneguidodarezzo.com/evento/guido-day-2025/
LOCATION:Piazza San Francesco\, Arezzo\, Italy
CATEGORIES:Musica
ATTACH;FMTTYPE=image/jpeg:https://www.fondazioneguidodarezzo.com/wp-content/uploads/2025/06/SOCIAL_Locandina-Guido-Day-2025.jpeg
ORGANIZER;CN="Fondazione Guido d'Arezzo":MAILTO:info@fondazioneguidodarezzo.com
GEO:43.4633082;11.8796215
END:VEVENT
END:VCALENDAR