BEGIN:VCALENDAR
VERSION:2.0
PRODID:-//Fondazione Guido d&#039;Arezzo - ECPv6.15.18//NONSGML v1.0//EN
CALSCALE:GREGORIAN
METHOD:PUBLISH
X-WR-CALNAME:Fondazione Guido d&#039;Arezzo
X-ORIGINAL-URL:https://www.fondazioneguidodarezzo.com
X-WR-CALDESC:Eventi per Fondazione Guido d&#039;Arezzo
REFRESH-INTERVAL;VALUE=DURATION:PT1H
X-Robots-Tag:noindex
X-PUBLISHED-TTL:PT1H
BEGIN:VTIMEZONE
TZID:Europe/Rome
BEGIN:DAYLIGHT
TZOFFSETFROM:+0100
TZOFFSETTO:+0200
TZNAME:CEST
DTSTART:20250330T010000
END:DAYLIGHT
BEGIN:STANDARD
TZOFFSETFROM:+0200
TZOFFSETTO:+0100
TZNAME:CET
DTSTART:20251026T010000
END:STANDARD
BEGIN:DAYLIGHT
TZOFFSETFROM:+0100
TZOFFSETTO:+0200
TZNAME:CEST
DTSTART:20260329T010000
END:DAYLIGHT
BEGIN:STANDARD
TZOFFSETFROM:+0200
TZOFFSETTO:+0100
TZNAME:CET
DTSTART:20261025T010000
END:STANDARD
BEGIN:DAYLIGHT
TZOFFSETFROM:+0100
TZOFFSETTO:+0200
TZNAME:CEST
DTSTART:20270328T010000
END:DAYLIGHT
BEGIN:STANDARD
TZOFFSETFROM:+0200
TZOFFSETTO:+0100
TZNAME:CET
DTSTART:20271031T010000
END:STANDARD
END:VTIMEZONE
BEGIN:VEVENT
DTSTART;TZID=Europe/Rome:20260419T100000
DTEND;TZID=Europe/Rome:20260419T190000
DTSTAMP:20260419T164718
CREATED:20260327T165439Z
LAST-MODIFIED:20260327T165439Z
UID:27169-1776592800-1776625200@www.fondazioneguidodarezzo.com
SUMMARY:Francisci Redi patricii arretini: la (ri)scoperta del genio
DESCRIPTION:La mostra intende illustrare ai visitatori la figura di Francesco Redi attraverso il patrimonio storico-documentario a lui legato: scienziato e cortigiano\, letterato e medico personale dei Granduchi di Toscana Ferdinando II e Cosimo III\, accademico della Crusca\, del Cimento e dell’Arcadia\, nonché grande sostenitore della sua città natìa\, Arezzo. Redi non solo fu un protagonista della nascita della modernità\, ma anche uno degli ultimi ingegni veramente enciclopedici della cultura occidentale\, in grado di passare con disinvoltura dall’anatomia di un mammifero alla decifrazione di un codice antico\, dall’ideazione di un sonetto all’impostazione di un esperimento di laboratorio\, dalla stesura di una ricetta a un consulto medico. La città di Arezzo\, in occasione della ricorrenza del quadricentenario della nascita\, intende celebrare una delle figure più acute\, poliedriche e significative del XVII secolo italiano\, a cui ha l’onore di aver dato i natali nel 1626. Francesco Redi è\, dunque\, raccontato attraverso la sua iconografia\, le sue origini e i suoi ricordi\, ma anche attraverso le sue opere scientifiche\, poetiche e accademiche. Di notevole interesse sono anche i suoi numerosi contatti con l’élite culturale toscana\, i suoi consigli e consulti a amici\, allievi e collaboratori e\, infine\, la sua ricchissima biblioteca di manoscritti e volumi a stampa\, rappresentazione della molteplicità di interessi del genio aretino. Le nove sezioni tematiche mostrano come ogni documento\, manoscritto o testo a stampa\, possa raccontare qualcosa che va al di là della mera produzione materiale del manufatto\, rivelando una storia o un legame riferibile a Francesco e al suo operato. I testi\, pertanto\, ‘ parlano’ e compongono l’intero universo rediano: un mondo costituito da molte sfaccettature ben visibili e da altre che si possono solo intravedere tra le righe.
URL:https://www.fondazioneguidodarezzo.com/evento/francisci-redi-patricii-arretini-la-riscoperta-del-genio/2026-04-19/
LOCATION:Galleria Comunale Arezzo\, Piazza San Francesco\, Arezzo\, ARPiazza San Francesco\, Arezzo\, AR\, Arezzo\, AR\, 52100\, Italia
CATEGORIES:Arte
ATTACH;FMTTYPE=image/jpeg:https://www.fondazioneguidodarezzo.com/wp-content/uploads/2026/03/Redi_Post.jpg
ORGANIZER;CN="Fondazione Guido d'Arezzo":MAILTO:info@fondazioneguidodarezzo.com
GEO:43.4650129;11.8806137
X-APPLE-STRUCTURED-LOCATION;VALUE=URI;X-ADDRESS=Galleria Comunale Arezzo Piazza San Francesco Arezzo ARPiazza San Francesco Arezzo AR Arezzo AR 52100 Italia;X-APPLE-RADIUS=500;X-TITLE=Piazza San Francesco\, Arezzo\, ARPiazza San Francesco\, Arezzo\, AR:geo:11.8806137,43.4650129
END:VEVENT
BEGIN:VEVENT
DTSTART;TZID=Europe/Rome:20260419T173000
DTEND;TZID=Europe/Rome:20260419T190000
DTSTAMP:20260419T164718
CREATED:20250917T103054Z
LAST-MODIFIED:20250909T122441Z
UID:24823-1776619800-1776625200@www.fondazioneguidodarezzo.com
SUMMARY:DRAINED! (SDRENATI)
DESCRIPTION:NOVE TEATRO APS \ndi Nicolò Sordo\nregia Domenico Ammendola\ncon Andrea Avanzi\, Valeria Barreca\, Paolo Zaccaria\ntecnico audio e luci Gabriele Orsini\nassistente alla regia Martina Chiello \n  \nTutti avremmo bisogno di un’uscita\, di una pausa dalla nostra quotidianità. In questa black comedy i personaggi cercano di salvarsi dalla banalità della quotidianità\nattraverso modi purtroppo spesso utilizzati ma non convenzionali e per lo meno non esattamente legali. Infatti\, tutti i nostri personaggi sono affetti da una qualche forma di dipendenza. DRAINED! (Sdrenati) racconta la storia di un ingegnere\, di sua moglie Maria e del suo giardiniere il Piuma i quali\, attraverso una fitta rete di dialoghi molto stretti e monologhi direttamente rivolti al pubblico\, raccontano i loro successi\, i loro fallimenti\, le loro difficoltà\, in pratica raccontano la loro vita. Una vita che\, come dicevamo in precedenza\, è attraversata da varie forme di dipendenze: chi ha una dipendenza da cocaina; chi è passato da una dipendenza da cocaina a quella da psicofarmaci; chi ha una dipendenza da sesso; tutte queste dipendenze insieme deflagrano in una serie di situazioni grottesche e nonsense. È una black comedy quindi si ride di queste situazioni paradossali ma contemporaneamente ci si pone delle domande e si vede uno spaccato d’umanità che ci è molto vicino\, sia geograficamente che socialmente\, che spesso facciamo finta di non vedere o crediamo lontano da noi ma purtroppo ci tocca nella sua quotidianità.
URL:https://www.fondazioneguidodarezzo.com/evento/drained-sdrenati/
LOCATION:Teatro Pietro Aretino\, Via Bicchieraia\, 32\, Arezzo\, AR\, Arezzo\, AR\, 52100
CATEGORIES:Teatro,Stagione teatrale
ATTACH;FMTTYPE=image/jpeg:https://www.fondazioneguidodarezzo.com/wp-content/uploads/2025/09/DRAINED-11.jpg
ORGANIZER;CN="Fondazione Guido d'Arezzo sezione teatri":MAILTO:teatri@fondazioneguidodarezzo.com
GEO:43.4652138;11.8820518
X-APPLE-STRUCTURED-LOCATION;VALUE=URI;X-ADDRESS=Teatro Pietro Aretino Via Bicchieraia 32 Arezzo AR Arezzo AR 52100;X-APPLE-RADIUS=500;X-TITLE=Via Bicchieraia\, 32\, Arezzo\, AR:geo:11.8820518,43.4652138
END:VEVENT
BEGIN:VEVENT
DTSTART;TZID=Europe/Rome:20260419T183000
DTEND;TZID=Europe/Rome:20260419T200000
DTSTAMP:20260419T164718
CREATED:20260327T164434Z
LAST-MODIFIED:20260414T164143Z
UID:27150-1776623400-1776628800@www.fondazioneguidodarezzo.com
SUMMARY:C’era una volta… Pinocchio
DESCRIPTION:Domenica 19 aprile alle 18.30 il percorso si chiuderà con “C’era una volta… Pinocchio”\, uno spettacolo che intreccia musica e narrazione e si rivolge a un pubblico ampio\, dalle famiglie ai più giovani. Con il duo comico Noidellescarpediverse.
URL:https://www.fondazioneguidodarezzo.com/evento/cera-una-volta-pinocchio/
LOCATION:Teatro Petrarca
CATEGORIES:Musica,Classica
ATTACH;FMTTYPE=image/jpeg:https://www.fondazioneguidodarezzo.com/wp-content/uploads/2026/03/Cera-una-volta-pinocchio-19-aprile.jpeg
ORGANIZER;CN="Fondazione Guido d'Arezzo":MAILTO:info@fondazioneguidodarezzo.com
GEO:43.4634066;11.8786102
END:VEVENT
END:VCALENDAR